BEGIN:VCALENDAR
VERSION:2.0
PRODID:-//Fiji-Australia Business Council (FABC) - ECPv6.15.20//NONSGML v1.0//EN
CALSCALE:GREGORIAN
METHOD:PUBLISH
X-ORIGINAL-URL:https://fabc.com.fj
X-WR-CALDESC:Events for Fiji-Australia Business Council (FABC)
REFRESH-INTERVAL;VALUE=DURATION:PT1H
X-Robots-Tag:noindex
X-PUBLISHED-TTL:PT1H
BEGIN:VTIMEZONE
TZID:Pacific/Fiji
BEGIN:STANDARD
TZOFFSETFROM:+1300
TZOFFSETTO:+1200
TZNAME:+12
DTSTART:20200111T140000
END:STANDARD
BEGIN:DAYLIGHT
TZOFFSETFROM:+1200
TZOFFSETTO:+1300
TZNAME:+13
DTSTART:20201219T140000
END:DAYLIGHT
BEGIN:STANDARD
TZOFFSETFROM:+1300
TZOFFSETTO:+1200
TZNAME:+12
DTSTART:20210116T140000
END:STANDARD
END:VTIMEZONE
BEGIN:VEVENT
DTSTART;TZID=Pacific/Fiji:20210317T183000
DTEND;TZID=Pacific/Fiji:20210317T183000
DTSTAMP:20260423T081319
CREATED:20210307T230310Z
LAST-MODIFIED:20210326T035253Z
UID:7367-1616005800-1616005800@fabc.com.fj
SUMMARY:A GREAT NETWORKING OPPORTUNITY TO MEET FIJI’S BUSINESS LEADERS
DESCRIPTION:This event is aimed at providing you with networking opportunities where you can effectively build your network of contacts\, and also strengthen existing business relationships. \nWith Saint Patrick’s Day theme we would like you to put on some Green and let us actively build on your network and business contacts. \nOur Chief Guest – Permanent Secretary for Health and Medical Services\, Dr. James Fong and the Australian High Commissioner\, His Excellency\, John Feakes will also be present at the event. \nDress: dinner or business attire (Green) Cost $200VIP per person \nFor RSVP\, please contact us: \nAkeneta Niumatasere: Email: fabcsecretariat@kpmg.com.fj or Phone: 8926 269 \nKathy Morris: Email: admin@valuecityfiji.com or Phone 3394 670/8918 563 \nTickets can be collected from KPMG\, Level 10\, BSP Suva Central\, Renwick Rd\, Suva.
URL:https://fabc.com.fj/event/a-great-networking-opportunity-to-meet-fijis-business-leaders/
LOCATION:Grand Pacific Hotel\, Suva\, Fiji
CATEGORIES:Networking
ATTACH;FMTTYPE=image/jpeg:https://fabc.com.fj/wp-content/uploads/2021/03/FABC_PhotopediaFiji_001-scaled.jpg
END:VEVENT
END:VCALENDAR