BEGIN:VCALENDAR
VERSION:2.0
PRODID:-//Fiji-Australia Business Council (FABC) - ECPv6.15.20//NONSGML v1.0//EN
CALSCALE:GREGORIAN
METHOD:PUBLISH
X-ORIGINAL-URL:https://fabc.com.fj
X-WR-CALDESC:Events for Fiji-Australia Business Council (FABC)
REFRESH-INTERVAL;VALUE=DURATION:PT1H
X-Robots-Tag:noindex
X-PUBLISHED-TTL:PT1H
BEGIN:VTIMEZONE
TZID:Pacific/Fiji
BEGIN:STANDARD
TZOFFSETFROM:+1300
TZOFFSETTO:+1200
TZNAME:+12
DTSTART:20200111T140000
END:STANDARD
BEGIN:DAYLIGHT
TZOFFSETFROM:+1200
TZOFFSETTO:+1300
TZNAME:+13
DTSTART:20201219T140000
END:DAYLIGHT
BEGIN:STANDARD
TZOFFSETFROM:+1300
TZOFFSETTO:+1200
TZNAME:+12
DTSTART:20210116T140000
END:STANDARD
END:VTIMEZONE
BEGIN:VEVENT
DTSTART;TZID=Pacific/Fiji:20211005T090000
DTEND;TZID=Pacific/Fiji:20211005T100000
DTSTAMP:20260423T232507
CREATED:20210923T062726Z
LAST-MODIFIED:20210928T102215Z
UID:7445-1633424400-1633428000@fabc.com.fj
SUMMARY:Zoom Meeting with Brent Hill\, CEO\, Tourism Fiji
DESCRIPTION:Tuesday\, 5 October 2021 at 9am-10am Fiji standard time (7.00am to 8.00am AEST). \n 
URL:https://fabc.com.fj/event/zoom-meeting-with-brent-hill-ceo-tourism-fiji/
END:VEVENT
END:VCALENDAR