BEGIN:VCALENDAR
VERSION:2.0
PRODID:-//Fiji-Australia Business Council (FABC) - ECPv6.15.20//NONSGML v1.0//EN
CALSCALE:GREGORIAN
METHOD:PUBLISH
X-WR-CALNAME:Fiji-Australia Business Council (FABC)
X-ORIGINAL-URL:https://fabc.com.fj
X-WR-CALDESC:Events for Fiji-Australia Business Council (FABC)
REFRESH-INTERVAL;VALUE=DURATION:PT1H
X-Robots-Tag:noindex
X-PUBLISHED-TTL:PT1H
BEGIN:VTIMEZONE
TZID:Pacific/Fiji
BEGIN:STANDARD
TZOFFSETFROM:+1300
TZOFFSETTO:+1200
TZNAME:+12
DTSTART:20210116T140000
END:STANDARD
END:VTIMEZONE
BEGIN:VEVENT
DTSTART;TZID=Pacific/Fiji:20220525T183000
DTEND;TZID=Pacific/Fiji:20220525T223000
DTSTAMP:20260424T052233
CREATED:20220516T220040Z
LAST-MODIFIED:20220516T233310Z
UID:7510-1653503400-1653517800@fabc.com.fj
SUMMARY:Speed Networking Dinner
DESCRIPTION:Please download the flyer below for more details; \nFABC Flyer-Final
URL:https://fabc.com.fj/event/speed-networking-dinner-2/
LOCATION:Grand Pacific Hotel\, Suva\, Fiji
CATEGORIES:Networking
ORGANIZER;CN="FABC Secretariat":MAILTO:fj-fmfabcsecretariat@kpmg.com.au
END:VEVENT
END:VCALENDAR