BEGIN:VCALENDAR
VERSION:2.0
PRODID:-//Fiji-Australia Business Council (FABC) - ECPv6.15.20//NONSGML v1.0//EN
CALSCALE:GREGORIAN
METHOD:PUBLISH
X-WR-CALNAME:Fiji-Australia Business Council (FABC)
X-ORIGINAL-URL:https://fabc.com.fj
X-WR-CALDESC:Events for Fiji-Australia Business Council (FABC)
REFRESH-INTERVAL;VALUE=DURATION:PT1H
X-Robots-Tag:noindex
X-PUBLISHED-TTL:PT1H
BEGIN:VTIMEZONE
TZID:Pacific/Fiji
BEGIN:STANDARD
TZOFFSETFROM:+1200
TZOFFSETTO:+1200
TZNAME:+12
DTSTART:20230101T000000
END:STANDARD
END:VTIMEZONE
BEGIN:VEVENT
DTSTART;TZID=Pacific/Fiji:20240229T180000
DTEND;TZID=Pacific/Fiji:20240229T180000
DTSTAMP:20260424T164937
CREATED:20240207T035937Z
LAST-MODIFIED:20240207T040039Z
UID:7810-1709229600-1709229600@fabc.com.fj
SUMMARY:Fiji Australia Business Council 2024 Speed Networking
DESCRIPTION:A quick way to grow your business connections. \nOne of the most awaiting and popular event of the FABC calendar. This will be a great opportunity to greet the Chief Guest\, The Australian High Commissioner to Fiji & Pacific Envoy\, H.E. Mr. Ewen MacDonald. \nDate and Time : 29 February 2024\, 6pm  \nVenue : Grand Pacific Hotel\, Suva  \nDress : Dinner or business attire  \nCost : $200.00VIP per person
URL:https://fabc.com.fj/event/fiji-australia-business-council-2024-speed-networking/
LOCATION:Grand Pacific Hotel\, 584\, 628 Victoria Parade\, Suva
CATEGORIES:Networking
ATTACH;FMTTYPE=image/jpeg:https://fabc.com.fj/wp-content/uploads/2024/02/Networking-Event-Invitation-scaled.jpg
ORGANIZER;CN="FABC Secretariat":MAILTO:fj-fmfabcsecretariat@kpmg.com.au
END:VEVENT
END:VCALENDAR