BEGIN:VCALENDAR
VERSION:2.0
PRODID:-//Fiji-Australia Business Council (FABC) - ECPv6.15.20//NONSGML v1.0//EN
CALSCALE:GREGORIAN
METHOD:PUBLISH
X-WR-CALNAME:Fiji-Australia Business Council (FABC)
X-ORIGINAL-URL:https://fabc.com.fj
X-WR-CALDESC:Events for Fiji-Australia Business Council (FABC)
REFRESH-INTERVAL;VALUE=DURATION:PT1H
X-Robots-Tag:noindex
X-PUBLISHED-TTL:PT1H
BEGIN:VTIMEZONE
TZID:Pacific/Fiji
BEGIN:STANDARD
TZOFFSETFROM:+1300
TZOFFSETTO:+1200
TZNAME:+12
DTSTART:20200111T140000
END:STANDARD
BEGIN:DAYLIGHT
TZOFFSETFROM:+1200
TZOFFSETTO:+1300
TZNAME:+13
DTSTART:20201219T140000
END:DAYLIGHT
BEGIN:STANDARD
TZOFFSETFROM:+1300
TZOFFSETTO:+1200
TZNAME:+12
DTSTART:20210116T140000
END:STANDARD
END:VTIMEZONE
BEGIN:VEVENT
DTSTART;VALUE=DATE:20211228
DTEND;VALUE=DATE:20211229
DTSTAMP:20260423T095705
CREATED:20191219T225331Z
LAST-MODIFIED:20210416T002748Z
UID:7288-1640649600-1640735999@fabc.com.fj
SUMMARY:Boxing Day
DESCRIPTION:
URL:https://fabc.com.fj/event/boxing-day-2/
CATEGORIES:2021 Fiji Public Holidays
END:VEVENT
BEGIN:VEVENT
DTSTART;VALUE=DATE:20211225
DTEND;VALUE=DATE:20211226
DTSTAMP:20260423T095705
CREATED:20191219T223947Z
LAST-MODIFIED:20210416T002225Z
UID:7263-1640390400-1640476799@fabc.com.fj
SUMMARY:Christmas Day
DESCRIPTION:
URL:https://fabc.com.fj/event/christmas-day-fiji-public-holiday/
CATEGORIES:2021 Fiji Public Holidays
END:VEVENT
BEGIN:VEVENT
DTSTART;VALUE=DATE:20211104
DTEND;VALUE=DATE:20211105
DTSTAMP:20260423T095705
CREATED:20210416T004633Z
LAST-MODIFIED:20210416T004633Z
UID:7425-1635984000-1636070399@fabc.com.fj
SUMMARY:Diwali
DESCRIPTION:
URL:https://fabc.com.fj/event/diwali/
CATEGORIES:2021 Fiji Public Holidays
END:VEVENT
BEGIN:VEVENT
DTSTART;VALUE=DATE:20211011
DTEND;VALUE=DATE:20211012
DTSTAMP:20260423T095705
CREATED:20191219T225026Z
LAST-MODIFIED:20210416T004532Z
UID:7282-1633910400-1633996799@fabc.com.fj
SUMMARY:Fiji Day
DESCRIPTION:
URL:https://fabc.com.fj/event/fiji-day/
CATEGORIES:2021 Fiji Public Holidays
END:VEVENT
BEGIN:VEVENT
DTSTART;VALUE=DATE:20210907
DTEND;VALUE=DATE:20210908
DTSTAMP:20260423T095705
CREATED:20191219T224937Z
LAST-MODIFIED:20210416T003358Z
UID:7280-1630972800-1631059199@fabc.com.fj
SUMMARY:Constitution Day
DESCRIPTION:
URL:https://fabc.com.fj/event/constitution-day/
CATEGORIES:2021 Fiji Public Holidays
END:VEVENT
BEGIN:VEVENT
DTSTART;VALUE=DATE:20210818
DTEND;VALUE=DATE:20210819
DTSTAMP:20260423T095705
CREATED:20191219T225122Z
LAST-MODIFIED:20210416T003030Z
UID:7284-1629244800-1629244800@fabc.com.fj
SUMMARY:Prophet Mohammed’s Birthday
DESCRIPTION:
URL:https://fabc.com.fj/event/prophet-mohammeds-birthday/
CATEGORIES:2021 Fiji Public Holidays
END:VEVENT
BEGIN:VEVENT
DTSTART;VALUE=DATE:20210405
DTEND;VALUE=DATE:20210406
DTSTAMP:20260423T095705
CREATED:20191219T224717Z
LAST-MODIFIED:20210416T003452Z
UID:7278-1617580800-1617667199@fabc.com.fj
SUMMARY:Easter Monday
DESCRIPTION:
URL:https://fabc.com.fj/event/easter-monday/
CATEGORIES:2021 Fiji Public Holidays
END:VEVENT
BEGIN:VEVENT
DTSTART;VALUE=DATE:20210403
DTEND;VALUE=DATE:20210404
DTSTAMP:20260423T095705
CREATED:20191219T224619Z
LAST-MODIFIED:20210416T003751Z
UID:7276-1617408000-1617494399@fabc.com.fj
SUMMARY:Easter Saturday
DESCRIPTION:
URL:https://fabc.com.fj/event/easter-saturday/
CATEGORIES:2021 Fiji Public Holidays
END:VEVENT
BEGIN:VEVENT
DTSTART;VALUE=DATE:20210402
DTEND;VALUE=DATE:20210403
DTSTAMP:20260423T095705
CREATED:20191219T224447Z
LAST-MODIFIED:20210416T003832Z
UID:7274-1617321600-1617407999@fabc.com.fj
SUMMARY:Good Friday
DESCRIPTION:
URL:https://fabc.com.fj/event/good-friday/
CATEGORIES:2021 Fiji Public Holidays
END:VEVENT
BEGIN:VEVENT
DTSTART;VALUE=DATE:20210101
DTEND;VALUE=DATE:20210102
DTSTAMP:20260423T095705
CREATED:20191219T224333Z
LAST-MODIFIED:20210416T003918Z
UID:7270-1609459200-1609545599@fabc.com.fj
SUMMARY:New Year's Day
DESCRIPTION:
URL:https://fabc.com.fj/event/new-years-day/
CATEGORIES:2021 Fiji Public Holidays
END:VEVENT
END:VCALENDAR