BEGIN:VCALENDAR
VERSION:2.0
PRODID:-//Fiji-Australia Business Council (FABC) - ECPv6.15.20//NONSGML v1.0//EN
CALSCALE:GREGORIAN
METHOD:PUBLISH
X-ORIGINAL-URL:https://fabc.com.fj
X-WR-CALDESC:Events for Fiji-Australia Business Council (FABC)
REFRESH-INTERVAL;VALUE=DURATION:PT1H
X-Robots-Tag:noindex
X-PUBLISHED-TTL:PT1H
BEGIN:VTIMEZONE
TZID:Pacific/Fiji
BEGIN:STANDARD
TZOFFSETFROM:+1200
TZOFFSETTO:+1200
TZNAME:+12
DTSTART:20240101T000000
END:STANDARD
END:VTIMEZONE
BEGIN:VEVENT
DTSTART;TZID=Pacific/Fiji:20250227T070000
DTEND;TZID=Pacific/Fiji:20250227T080000
DTSTAMP:20260423T214709
CREATED:20250216T221034Z
LAST-MODIFIED:20250216T221239Z
UID:8158-1740639600-1740643200@fabc.com.fj
SUMMARY:The Trump effect how prepared are we?
DESCRIPTION:
URL:https://fabc.com.fj/event/the-trump-effect-how-prepared-are-we/
LOCATION:Grand Pacific Hotel\, 584\, 628 Victoria Parade\, Suva
ATTACH;FMTTYPE=image/jpeg:https://fabc.com.fj/wp-content/uploads/2025/02/FABC_Breakfast_Flyer_2025.jpg
ORGANIZER;CN="FABC Secretariat":MAILTO:fj-fmfabcsecretariat@kpmg.com.au
END:VEVENT
BEGIN:VEVENT
DTSTART;TZID=Pacific/Fiji:20251002T180000
DTEND;TZID=Pacific/Fiji:20251002T220000
DTSTAMP:20260423T214709
CREATED:20250923T012904Z
LAST-MODIFIED:20250923T012904Z
UID:8176-1759428000-1759442400@fabc.com.fj
SUMMARY:Speed Networking Dinner
DESCRIPTION:
URL:https://fabc.com.fj/event/speed-networking-dinner-3/
LOCATION:Grand Pacific Hotel\, 584\, 628 Victoria Parade\, Suva
CATEGORIES:Networking
ATTACH;FMTTYPE=image/jpeg:https://fabc.com.fj/wp-content/uploads/2025/09/FABC-Speed-Networking-2025-3x20-1.jpg
END:VEVENT
END:VCALENDAR