BEGIN:VCALENDAR
VERSION:2.0
PRODID:-//Fiji-Australia Business Council (FABC) - ECPv6.15.20//NONSGML v1.0//EN
CALSCALE:GREGORIAN
METHOD:PUBLISH
X-ORIGINAL-URL:https://fabc.com.fj
X-WR-CALDESC:Events for Fiji-Australia Business Council (FABC)
REFRESH-INTERVAL;VALUE=DURATION:PT1H
X-Robots-Tag:noindex
X-PUBLISHED-TTL:PT1H
BEGIN:VTIMEZONE
TZID:Pacific/Fiji
BEGIN:STANDARD
TZOFFSETFROM:+1300
TZOFFSETTO:+1200
TZNAME:+12
DTSTART:20190112T140000
END:STANDARD
BEGIN:DAYLIGHT
TZOFFSETFROM:+1200
TZOFFSETTO:+1300
TZNAME:+13
DTSTART:20191109T140000
END:DAYLIGHT
BEGIN:STANDARD
TZOFFSETFROM:+1300
TZOFFSETTO:+1200
TZNAME:+12
DTSTART:20200111T140000
END:STANDARD
BEGIN:DAYLIGHT
TZOFFSETFROM:+1200
TZOFFSETTO:+1300
TZNAME:+13
DTSTART:20201219T140000
END:DAYLIGHT
BEGIN:STANDARD
TZOFFSETFROM:+1300
TZOFFSETTO:+1200
TZNAME:+12
DTSTART:20210116T140000
END:STANDARD
END:VTIMEZONE
BEGIN:VEVENT
DTSTART;TZID=Pacific/Fiji:20200309T183000
DTEND;TZID=Pacific/Fiji:20200309T183000
DTSTAMP:20260423T233120
CREATED:20200216T213558Z
LAST-MODIFIED:20200216T213617Z
UID:7333-1583778600-1583778600@fabc.com.fj
SUMMARY:Fiji Australia Business Council
DESCRIPTION:Fiji’s only progressive dinner where guests have the opportunity to meet the who’s who of the business and diplomatic community with genuine face time with senior executives. \nFiji’s premier annual networking event – on steroids!! Your chance to actively build on your network and business contacts. \nChief Guest: Hon. Premila Kumar\, Minister for Local\nGovernment Housing and Community Development\, Industry\, Trade and Tourism\, \nHoliday Inn\n6.30pm Monday 9 March\, 2020\nDress: dinner or business attire\nCost $200VIP PP \nTickets can be delivered by emailing monica@valuecityfiji.com or\nCollect from KPMG\, Level 10\, BSP Suva Central\, Renwick Rd\, Suva.
URL:https://fabc.com.fj/event/fiji-australia-business-council/
LOCATION:Holiday Inn
CATEGORIES:Networking
END:VEVENT
END:VCALENDAR