BEGIN:VCALENDAR
VERSION:2.0
PRODID:-//Fiji-Australia Business Council (FABC) - ECPv6.15.20//NONSGML v1.0//EN
CALSCALE:GREGORIAN
METHOD:PUBLISH
X-ORIGINAL-URL:https://fabc.com.fj
X-WR-CALDESC:Events for Fiji-Australia Business Council (FABC)
REFRESH-INTERVAL;VALUE=DURATION:PT1H
X-Robots-Tag:noindex
X-PUBLISHED-TTL:PT1H
BEGIN:VTIMEZONE
TZID:Pacific/Fiji
BEGIN:STANDARD
TZOFFSETFROM:+1200
TZOFFSETTO:+1200
TZNAME:+12
DTSTART:20220101T000000
END:STANDARD
END:VTIMEZONE
BEGIN:VEVENT
DTSTART;VALUE=DATE:20230830
DTEND;VALUE=DATE:20230902
DTSTAMP:20260424T113900
CREATED:20230717T033002Z
LAST-MODIFIED:20230717T034416Z
UID:7770-1693353600-1693612799@fabc.com.fj
SUMMARY:27th AUSTRALIA FIJI BUSINESS FORUM
DESCRIPTION:[vc_row type=”in_container” full_screen_row_position=”middle” column_margin=”default” column_direction=”default” column_direction_tablet=”default” column_direction_phone=”default” scene_position=”center” text_color=”dark” text_align=”left” row_border_radius=”none” row_border_radius_applies=”bg” overlay_strength=”0.3″ gradient_direction=”left_to_right” shape_divider_position=”bottom” bg_image_animation=”none”][vc_column column_padding=”no-extra-padding” column_padding_tablet=”inherit” column_padding_phone=”inherit” column_padding_position=”all” column_element_spacing=”default” background_color_opacity=”1″ background_hover_color_opacity=”1″ column_shadow=”none” column_border_radius=”none” column_link_target=”_self” gradient_direction=”left_to_right” overlay_strength=”0.3″ width=”1/1″ tablet_width_inherit=”default” tablet_text_alignment=”default” phone_text_alignment=”default” bg_image_animation=”none” border_type=”simple” column_border_width=”none” column_border_style=”solid”][nectar_btn size=”jumbo” button_style=”regular” button_color_2=”Extra-Color-1″ solid_text_color_override=”#ffffff” icon_family=”none” text=”Download Event Brochure” url=”https://fabc.com.fj/wp-content/uploads/2023/07/Brochure-AFBF27-1.pdf”][/vc_column][/vc_row]
URL:https://fabc.com.fj/event/27th-australia-fiji-business-forum/
LOCATION:Intercontinental Sydney Hotel\, 117 Macquarie St\, Sydney\, NSW\, 2000\, Australia
ORGANIZER;CN="FABC Secretariat":MAILTO:fj-fmfabcsecretariat@kpmg.com.au
END:VEVENT
END:VCALENDAR